BEGIN:VCALENDAR
VERSION:2.0
PRODID:-//ChamberMaster//Event Calendar 2.0//EN
METHOD:PUBLISH
X-PUBLISHED-TTL:P3D
REFRESH-INTERVAL:P3D
CALSCALE:GREGORIAN
BEGIN:VEVENT
DTSTART:20230824T223000Z
DTEND:20230824T233000Z
X-MICROSOFT-CDO-ALLDAYEVENT:FALSE
SUMMARY:1 & 6 Yr Street Improvement Open House
DESCRIPTION:An informational meeting will be held on Thursday\, August 24\, 2023 at the Norfolk Public Library\, 308 Prospect Avenue\, Norfolk\, Nebraska\, from 5:30 to 6:30 p.m. to gather community input on the City of Norfolk One & Six Year Street Improvements Plan.\n\n \nCity staff will be available to answer questions.
X-ALT-DESC;FMTTYPE=text/html:<p align="center" style="text-align:center"><span style="font-size: 12pt\; font-family: Candara\, sans-serif\;">An informational meeting will be held on Thursday\, August 24\, 2023 at the Norfolk Public Library\, 308 Prospect Avenue\, Norfolk\, Nebraska\, from 5:30 to 6:30 p.m. to gather community input on the City of Norfolk One &amp\; Six Year Street Improvements Plan.</span><span style="font-size:12.0pt\;font-family:&quot\;Helvetica&quot\;\,sans-serif\;\ncolor:#606D78"><o:p></o:p></span></p>\n\n<p align="center" style="text-align:center"><span style="font-size: 12pt\; font-family: Candara\, sans-serif\;">&nbsp\;</span><span style="font-size:12.0pt\;font-family:&quot\;Helvetica&quot\;\,sans-serif\;color:#606D78"><o:p></o:p></span></p>\n<span style="font-size: 12pt\; font-family: Candara\, sans-serif\;">City staff will be available to answer questions.</span>
LOCATION:Norfolk Public Library 308 Prospect Ave Norfolk\, Ne
UID:e.296.34923
SEQUENCE:3
DTSTAMP:20260421T135435Z
URL:https://members.norfolkareachamber.com/events/details/1-6-yr-street-improvement-open-house-34923
END:VEVENT

END:VCALENDAR
