BEGIN:VCALENDAR
VERSION:2.0
PRODID:-//ChamberMaster//Event Calendar 2.0//EN
METHOD:PUBLISH
X-PUBLISHED-TTL:P3D
REFRESH-INTERVAL:P3D
CALSCALE:GREGORIAN
BEGIN:VEVENT
DTSTART:20230831T223000Z
DTEND:20230831T233000Z
X-MICROSOFT-CDO-ALLDAYEVENT:FALSE
SUMMARY:Affordable Action Housing Plan - Open House
DESCRIPTION:Residents are invited to an Affordable Housing Action Plan Open House Thursday\, August 31 5:30 to 6:30 p.m. in the City Council Chambers. The affordable housing action plan is in response to the lack of affordable housing in many Nebraska municipalities\, and the plan assists municipalities putting a plan forward. \n\n \n\nThe Nebraska Legislature put in place a requirement for cities with a population of less than fifty thousand inhabitants to adopt an affordable housing action plan on or before January 1\, 2024. Some topics to be discussed include examining and updating zoning codes and ordinances to permit varied types of housing stock\, provide greater availability of affordable housing\, and promote more efficient and effective land use.
X-ALT-DESC;FMTTYPE=text/html:<span style="color:#606D78\;"><span style="font-family:candara\,sans-serif\;"><span style="font-size:12.0pt\;">Residents are invited to an Affordable Housing Action Plan Open House Thursday\, August 31 5:30 to 6:30 p.m. in the City Council Chambers. The affordable housing action plan is in response to the lack of affordable housing in many Nebraska municipalities\, and the plan assists municipalities putting a plan forward. </span></span></span><br />\n&nbsp\;<br />\n<span style="color:#606D78\;"><span style="font-family:candara\,sans-serif\;"><span style="font-size:12.0pt\;">The Nebraska Legislature put in place a requirement for cities with a population of less than fifty thousand inhabitants to adopt an affordable housing action plan on or before January 1\, 2024. Some topics to be discussed include examining and updating zoning codes and ordinances to permit varied types of housing stock\, provide greater availability of affordable housing\, and promote more efficient and effective land use.</span></span></span><br />\n&nbsp\;
LOCATION:City Council Chambers 309 N 5th Norfolk Ne
UID:e.296.34925
SEQUENCE:3
DTSTAMP:20260421T135305Z
URL:https://members.norfolkareachamber.com/events/details/affordable-action-housing-plan-open-house-34925
END:VEVENT

END:VCALENDAR
