BEGIN:VCALENDAR
VERSION:2.0
PRODID:-//ChamberMaster//Event Calendar 2.0//EN
METHOD:PUBLISH
X-PUBLISHED-TTL:P3D
REFRESH-INTERVAL:P3D
CALSCALE:GREGORIAN
BEGIN:VEVENT
DTSTART:20201015T180000Z
DTEND:20201015T190000Z
X-MICROSOFT-CDO-ALLDAYEVENT:FALSE
SUMMARY:Alzheimer's & Dementia Support Group
DESCRIPTION:Alzheimer's and Dementia Support Group- meets every 3rd Thursday of the month at 1pm. The group is hosted in our conference room. Open to the public and all are encouraged to attend. Not necessary to know a resident at Bel-Air.
X-ALT-DESC;FMTTYPE=text/html:Alzheimer&#39\;s and Dementia Support Group- meets every 3rd Thursday of the month at 1pm.&nbsp\;<span style="font-family:calibri\,sans-serif\;"><span style="font-size:11.0pt\;">The group is hosted in our conference room. Open to the public and all are encouraged to attend. Not necessary to know a resident at Bel-Air.</span></span>
LOCATION:Heritage of Bel Air 1203 N. 13th Street Norfolk\, NE 68701
UID:e.296.23064
SEQUENCE:3
DTSTAMP:20260420T211332Z
URL:https://members.norfolkareachamber.com/events/details/alzheimer-s-dementia-support-group-10-15-2020-23064
END:VEVENT

END:VCALENDAR
