BEGIN:VCALENDAR
VERSION:2.0
PRODID:-//ChamberMaster//Event Calendar 2.0//EN
METHOD:PUBLISH
X-PUBLISHED-TTL:P3D
REFRESH-INTERVAL:P3D
CALSCALE:GREGORIAN
BEGIN:VEVENT
DTSTART:20210519T160000Z
DTEND:20210519T171500Z
X-MICROSOFT-CDO-ALLDAYEVENT:FALSE
SUMMARY:Ambassador Executive Meeting
DESCRIPTION:Ambassador Executive Meeting\n\nclosed meeting
X-ALT-DESC;FMTTYPE=text/html:Ambassador Executive Meeting<br />\nclosed meeting
LOCATION:Norfolk Area Chamber of Commerce
UID:e.296.32261
SEQUENCE:3
DTSTAMP:20260426T015146Z
URL:https://members.norfolkareachamber.com/events/details/ambassador-executive-meeting-05-19-2021-32261
END:VEVENT

END:VCALENDAR
