BEGIN:VCALENDAR
VERSION:2.0
PRODID:-//ChamberMaster//Event Calendar 2.0//EN
METHOD:PUBLISH
X-PUBLISHED-TTL:P3D
REFRESH-INTERVAL:P3D
CALSCALE:GREGORIAN
BEGIN:VEVENT
DTSTART:20221023T190000Z
DTEND:20221023T200000Z
X-MICROSOFT-CDO-ALLDAYEVENT:FALSE
SUMMARY:American Legion Post Dedication Ceremony
DESCRIPTION:American Legion Post 16 has moved. the new Post location is 3206 Raasch Dr\, next to Flooring Solutions\, and will be dedicated on Sunday October 23\, 2022\n\nAll Veterans are welcome to attend and the public is invited.
X-ALT-DESC;FMTTYPE=text/html:<span style="font-size:16px\;">American Legion Post 16 has moved. the new Post location is 3206 Raasch Dr\, next to Flooring Solutions\, and will be dedicated on Sunday October 23\, 2022<br />\nAll Veterans are welcome to attend and the public is invited.</span>
LOCATION:3206 Raasch Dr Norfolk Ne
UID:e.296.34107
SEQUENCE:3
DTSTAMP:20260424T233102Z
URL:https://members.norfolkareachamber.com/events/details/american-legion-post-dedication-ceremony-34107
END:VEVENT

END:VCALENDAR
