BEGIN:VCALENDAR
VERSION:2.0
PRODID:-//ChamberMaster//Event Calendar 2.0//EN
METHOD:PUBLISH
X-PUBLISHED-TTL:P3D
REFRESH-INTERVAL:P3D
CALSCALE:GREGORIAN
BEGIN:VEVENT
DTSTART:20200916T233000Z
DTEND:20200917T010000Z
X-MICROSOFT-CDO-ALLDAYEVENT:FALSE
SUMMARY:Beads & Bobbles
DESCRIPTION:Create a one of a kind\, adjustable bracelet for yourself AND/OR get a jump start for Christmas! Perfect for any child\, spouse\, partner\, friend\, relative\, etc..! Something hand made and your own choice of two colors!
X-ALT-DESC;FMTTYPE=text/html:<span style="color: rgb(24\, 24\, 24)\; font-family: brandon-grot-w01-light\, sans-serif\; font-size: 15px\; text-align: center\; white-space: pre-wrap\;">Create a one of a kind\, adjustable bracelet for yourself AND/OR get a jump start for Christmas! Perfect for any child\, spouse\, partner\, friend\, relative\, etc..! Something hand made and your own choice of two colors!</span>
LOCATION:Revitalized Studio 311 W Norfolk Ave Norfolk\, Ne 68701
UID:e.296.32174
SEQUENCE:3
DTSTAMP:20260421T165835Z
URL:https://members.norfolkareachamber.com/events/details/beads-bobbles-32174
END:VEVENT

END:VCALENDAR
