BEGIN:VCALENDAR
VERSION:2.0
PRODID:-//ChamberMaster//Event Calendar 2.0//EN
METHOD:PUBLISH
X-PUBLISHED-TTL:P3D
REFRESH-INTERVAL:P3D
CALSCALE:GREGORIAN
BEGIN:VEVENT
DTSTART:20200917T153000Z
DTEND:20200917T200000Z
X-MICROSOFT-CDO-ALLDAYEVENT:FALSE
SUMMARY:NAHRA/CAHRA Business Training Workshop
DESCRIPTION:The Norfolk Area Human Resource Association and the Columbus Area Resources Association are teaming up again for our annual business training workshop! We've expanded to a half day event to bring you two great speakers and an awesome networking experience!\n\nJoshua Evans\, national speaker and corporate trainer will present "Culture of Engagement: Why/How to Build Passionate\, Engaged Teams". We'll learn how to build a focused\, engaged working environment and obtain effective communication tools to build positive momentum.\n\nJohn Davis\, Vice-President of Supply Chain at Norfolk Iron and Metal and former college instructor will present "Effective Negotiation - Not As Hard As You Think!" Negotiation skills are relevant in any business setting including Human Resources. This important skill can be utilized when negotiating salary with a potential new hire or asking for additional funding for an essential training program. We'll learn proven techniques and tactics for win/win negotiations.
X-ALT-DESC;FMTTYPE=text/html:The N<strong>orfolk Area Human Resource Association </strong>and the <strong>Columbus Area Resources Association</strong> are teaming up again for our annual business training workshop! We&#39\;ve expanded to a half day event to bring you two great speakers and an awesome networking experience!<br />\n<strong>Joshua Evans</strong>\, national speaker and corporate trainer will present &quot\;Culture of Engagement: Why/How to Build Passionate\, Engaged Teams&quot\;. We&#39\;ll learn how to build a focused\, engaged working environment and obtain effective communication tools to build positive momentum.<br />\n<strong>John Davis\,</strong>&nbsp\;Vice-President of Supply Chain at Norfolk Iron and Metal and former college instructor will present &quot\;Effective Negotiation - Not As Hard As You Think!&quot\; Negotiation skills are relevant in any business setting including Human Resources. <span style="font-family:arial\,sans-serif\; font-size:10pt">This important skill can be utilized when negotiating salary with a potential new hire or asking for additional funding for an essential training program.&nbsp\;</span>We&#39\;ll learn proven techniques and tactics for win/win negotiations.
LOCATION:Dusters Restaurant\, 2804 13th Street\, Columbus\, NE
UID:e.296.32169
SEQUENCE:3
DTSTAMP:20260421T171304Z
URL:https://members.norfolkareachamber.com/events/details/cahra-nahra-business-training-workshop-32169
END:VEVENT

END:VCALENDAR
