BEGIN:VCALENDAR
VERSION:2.0
PRODID:-//ChamberMaster//Event Calendar 2.0//EN
METHOD:PUBLISH
X-PUBLISHED-TTL:P3D
REFRESH-INTERVAL:P3D
CALSCALE:GREGORIAN
BEGIN:VEVENT
DTSTART:20200318T170000Z
DTEND:20200318T180000Z
X-MICROSOFT-CDO-ALLDAYEVENT:FALSE
SUMMARY:CANCELLED - Riverfront Development Meeting - CANCELLED
DESCRIPTION:Riverfront Development Meeting
X-ALT-DESC;FMTTYPE=text/html:Riverfront Development Meeting
LOCATION:Chamber Community Room
UID:e.296.30345
SEQUENCE:3
DTSTAMP:20260422T023101Z
URL:https://members.norfolkareachamber.com/events/details/cancelled-riverfront-development-meeting-cancelled-30345
END:VEVENT

END:VCALENDAR
