BEGIN:VCALENDAR
VERSION:2.0
PRODID:-//ChamberMaster//Event Calendar 2.0//EN
METHOD:PUBLISH
X-PUBLISHED-TTL:P3D
REFRESH-INTERVAL:P3D
CALSCALE:GREGORIAN
BEGIN:VEVENT
DTSTART:20230824T200000Z
DTEND:20230824T230000Z
X-MICROSOFT-CDO-ALLDAYEVENT:FALSE
SUMMARY:Circle of Friends - Open House
DESCRIPTION:See what Circle of Friends can do for you and your loved ones! \n\nJoin them as they celebrate with food\, drawings and information - August 24th from 3p-6p at their Open House!
X-ALT-DESC;FMTTYPE=text/html:<span style="font-size:14px\;"><span style="font-family:comic sans ms\;">See what Circle of Friends can do for you and your loved ones!&nbsp\;<br />\nJoin them as they celebrate with food\, drawings and information - August 24th from 3p-6p at their Open House!</span></span>
LOCATION:Circle of Friends 802 Custer Ave Norfolk Ne 68701
UID:e.296.34165
SEQUENCE:3
DTSTAMP:20260421T135436Z
URL:https://members.norfolkareachamber.com/events/details/circle-of-friends-open-house-34165
END:VEVENT

END:VCALENDAR
