BEGIN:VCALENDAR
VERSION:2.0
PRODID:-//ChamberMaster//Event Calendar 2.0//EN
METHOD:PUBLISH
X-PUBLISHED-TTL:P3D
REFRESH-INTERVAL:P3D
CALSCALE:GREGORIAN
BEGIN:VEVENT
DTSTART:20190705T003000Z
DTEND:20190708T020000Z
X-MICROSOFT-CDO-ALLDAYEVENT:FALSE
SUMMARY:Cirque Italia - Silver Unit
DESCRIPTION:Each year since its beginning in 2012\, Cirque Italia has strived to bring a new UNIQUE experience to the people of the many wonderful towns of the United States. This year in our show\, we have decided to bring along some Italian towns. You don't have to travel to Europe for a taste of Italian culture   we brought it to YOU! So what exactly does this "sailing" adventure have in store? We have transformed our stage into a large ship for this year's water circus experience. As always\, we will continue to feature our unique water stage\, but this year we have brand new Bellagio style fountains included!
X-ALT-DESC;FMTTYPE=text/html:Each year since its beginning in 2012\, Cirque Italia has strived to bring a new UNIQUE experience to the people of the many wonderful towns of the United States. This year in our show\, we have decided to bring along some Italian towns. You don&rsquo\;t have to travel to Europe for a taste of Italian culture &ndash\; we brought it to YOU! So what exactly does this &ldquo\;sailing&rdquo\; adventure have in store? We have transformed our stage into a large ship for this year&rsquo\;s water circus experience. As always\, we will continue to feature our unique water stage\, but this year we have brand new Bellagio style fountains included!
LOCATION:Sunset Plaza Mall 1700 Market Ln\, Norfolk NE 68701
UID:e.296.30630
SEQUENCE:3
DTSTAMP:20260422T134656Z
URL:https://members.norfolkareachamber.com/events/details/cirque-italia-silver-unit-07-04-2019-30630
END:VEVENT

END:VCALENDAR
