BEGIN:VCALENDAR
VERSION:2.0
PRODID:-//ChamberMaster//Event Calendar 2.0//EN
METHOD:PUBLISH
X-PUBLISHED-TTL:P3D
REFRESH-INTERVAL:P3D
CALSCALE:GREGORIAN
BEGIN:VEVENT
DTSTART:20191024T213000Z
DTEND:20191025T000000Z
X-MICROSOFT-CDO-ALLDAYEVENT:FALSE
SUMMARY:Downtown Trick or Treating
DESCRIPTION:Downtown Trick or Treating
X-ALT-DESC;FMTTYPE=text/html:Downtown Trick or Treating
LOCATION:Downtown Norfolk
UID:e.296.31452
SEQUENCE:3
DTSTAMP:20260422T084538Z
URL:https://members.norfolkareachamber.com/events/details/downtown-trick-or-treating-10-24-2019-31452
END:VEVENT

END:VCALENDAR
