BEGIN:VCALENDAR
VERSION:2.0
PRODID:-//ChamberMaster//Event Calendar 2.0//EN
METHOD:PUBLISH
X-PUBLISHED-TTL:P3D
REFRESH-INTERVAL:P3D
CALSCALE:GREGORIAN
BEGIN:VEVENT
DTSTART:20221117T160000Z
DTEND:20221117T170000Z
X-MICROSOFT-CDO-ALLDAYEVENT:FALSE
SUMMARY:Hispanic Business Council - America's Best
DESCRIPTION:The Hispanic Business Council is the newest initiative within the Norfolk Area Chamber of Commerce. The group organized by Hispanic small business owners focusing on accessing resources\, increasing networking opportunities\, and promoting their businesses while they learn about the multiple incentives the Norfolk Area Chamber of Commerce has to offer.
X-ALT-DESC;FMTTYPE=text/html:<h4 style="box-sizing: border-box\; margin: 0px\; padding: 0px 0px 10px\; border: 0px\; outline: 0px\; font-size: 21px\; text-size-adjust: 100%\; vertical-align: baseline\; background: rgb(255\, 255\, 255)\; color: rgb(64\, 64\, 64)\; line-height: 1.1em\; font-weight: 500\; font-family: Lato\, Helvetica\, Arial\, Lucida\, sans-serif\;"><span style="font-size:16px\;"><em><span style="box-sizing: border-box\; margin: 0px\; padding: 0px\; border: 0px\; outline: 0px\; text-size-adjust: 100%\; vertical-align: baseline\; background: transparent\; font-weight: 700\;">The Hispanic Business Council is the n</span><b style="box-sizing: border-box\; margin: 0px\; padding: 0px\; border: 0px\; outline: 0px\; text-size-adjust: 100%\; vertical-align: baseline\; background: transparent\;">ewest initiative within the Norfolk Area Chamber of Commerce. The group organized by Hispanic small business owners focusing on accessing resources\, incre</b></em><span style="box-sizing: border-box\; margin: 0px\; padding: 0px\; border: 0px\; outline: 0px\; text-size-adjust: 100%\; vertical-align: baseline\; background: transparent\; font-weight: 700\;"><em>asing networking opportunities\, and promoting their businesses while they learn about the multiple incentives the Norfolk Area Chamber of Commerce has to offer.&nbsp\; &nbsp\; &nbsp\;</em> &nbsp\; &nbsp\;&nbsp\;</span></span></h4>\n
LOCATION:America's Best 1700 Market Lane - Sunset Plaza
UID:e.296.34095
SEQUENCE:3
DTSTAMP:20260424T222739Z
URL:https://members.norfolkareachamber.com/events/details/hispanic-business-council-america-s-best-34095
END:VEVENT

END:VCALENDAR
