BEGIN:VCALENDAR
VERSION:2.0
PRODID:-//ChamberMaster//Event Calendar 2.0//EN
METHOD:PUBLISH
X-PUBLISHED-TTL:P3D
REFRESH-INTERVAL:P3D
CALSCALE:GREGORIAN
BEGIN:VEVENT
DTSTART:20230127T180000Z
DTEND:20230127T193000Z
X-MICROSOFT-CDO-ALLDAYEVENT:FALSE
SUMMARY:Hispanic Business Council - Nebraska Health & Wellness
DESCRIPTION:The Chamber's Hispanic Council
X-ALT-DESC;FMTTYPE=text/html:The Chamber&#39\;s Hispanic Council&nbsp\;
LOCATION:Nebraska Health & Wellness 1414 N 13th St Norfolk Ne 68701
UID:e.296.34111
SEQUENCE:3
DTSTAMP:20260424T190449Z
URL:https://members.norfolkareachamber.com/events/details/hispanic-business-council-nebraska-health-wellness-34111
END:VEVENT

END:VCALENDAR
