BEGIN:VCALENDAR
VERSION:2.0
PRODID:-//ChamberMaster//Event Calendar 2.0//EN
METHOD:PUBLISH
X-PUBLISHED-TTL:P3D
REFRESH-INTERVAL:P3D
CALSCALE:GREGORIAN
BEGIN:VEVENT
DTSTART:20230117T231500Z
DTEND:20230118T003000Z
X-MICROSOFT-CDO-ALLDAYEVENT:FALSE
SUMMARY:Hispanic Business Council
DESCRIPTION:The Chamber's Hispanic Council
X-ALT-DESC;FMTTYPE=text/html:The Chamber&#39\;s Hispanic Council&nbsp\;
LOCATION:Norfolk Public Library
UID:e.296.34097
SEQUENCE:3
DTSTAMP:20260424T185836Z
URL:https://members.norfolkareachamber.com/events/details/hispanic-council-01-19-2023-34097
END:VEVENT

END:VCALENDAR
