BEGIN:VCALENDAR
VERSION:2.0
PRODID:-//ChamberMaster//Event Calendar 2.0//EN
METHOD:PUBLISH
X-PUBLISHED-TTL:P3D
REFRESH-INTERVAL:P3D
CALSCALE:GREGORIAN
BEGIN:VEVENT
DTSTART:20100921T130000Z
DTEND:20100921T210000Z
X-MICROSOFT-CDO-ALLDAYEVENT:FALSE
SUMMARY:Management Boot Camp
DESCRIPTION:Best Care Employee Assistance Program is excited to present Management Boot Camp! Because of the success and attendance of the Management Boot Camp we held back in January\, we are coming back for more! Program highlights include: \n\n - Thinking like a manager \n - Coaching and disciplining employees \n - Setting clear expectations regarding performance\, behavior and attendance \n - Motivating employees \n - Getting employees to take initiative \n - Conducting performance evaluations that get resu
X-ALT-DESC;FMTTYPE=text/html:<div>Best Care Employee Assistance Program is excited to present Management Boot Camp! Because of the success and attendance of the Management Boot Camp we held back in January\, we are coming back for more! Program highlights include: <br /><br />&nbsp\;- Thinking like a manager <br />&nbsp\;- Coaching and disciplining employees <br />&nbsp\;- Setting clear expectations regarding performance\, behavior and attendance <br />&nbsp\;- Motivating employees <br />&nbsp\;- Getting employees to take initiative <br />&nbsp\;- Conducting performance evaluations that get resu</div>
LOCATION:Northeast Community College Life Long Learning Center 801 East Benjamin Avenue Norfolk\, NE
UID:e.296.11914
SEQUENCE:3
DTSTAMP:20260421T135235Z
URL:https://members.norfolkareachamber.com/events/details/management-boot-camp-09-21-2010-11914
END:VEVENT

END:VCALENDAR
