BEGIN:VCALENDAR
VERSION:2.0
PRODID:-//ChamberMaster//Event Calendar 2.0//EN
METHOD:PUBLISH
X-PUBLISHED-TTL:P3D
REFRESH-INTERVAL:P3D
CALSCALE:GREGORIAN
BEGIN:VEVENT
DTSTART:20230306T233000Z
DTEND:20230307T010000Z
X-MICROSOFT-CDO-ALLDAYEVENT:FALSE
SUMMARY:Norfolk City Council Meeting
DESCRIPTION:The Norfolk City Council will be meeting in the City Council Chambers located at 309 North 5th Street in Norfolk\, Nebraska on Monday\, March 6\, 2023 at 5:30 p.m.
X-ALT-DESC;FMTTYPE=text/html:The Norfolk City Council will be meeting in the City Council Chambers located at 309 North 5th Street in Norfolk\, Nebraska on Monday\, March 6\, 2023 at 5:30 p.m.&nbsp\;
LOCATION:
UID:e.296.34145
SEQUENCE:3
DTSTAMP:20260424T175822Z
URL:https://members.norfolkareachamber.com/events/details/norfolk-city-council-meeting-34145
END:VEVENT

END:VCALENDAR
