BEGIN:VCALENDAR
VERSION:2.0
PRODID:-//ChamberMaster//Event Calendar 2.0//EN
METHOD:PUBLISH
X-PUBLISHED-TTL:P3D
REFRESH-INTERVAL:P3D
CALSCALE:GREGORIAN
BEGIN:VEVENT
DTSTART:20230916T130000Z
DTEND:20230916T150000Z
X-MICROSOFT-CDO-ALLDAYEVENT:FALSE
SUMMARY:Northeast Nebraska Walk to End Alzheimer's
DESCRIPTION:Held annually in more than 600 communities nationwide\, the Alzheimer's Association Walk to End Alzheimer's  is the world's largest fundraiser for Alzheimer's care\, support and research. This inspiring event calls on participants of all ages and abilities to join the fight against the disease.\n\nWhile there is no fee to register for Walk\, all participants are encouraged to raise critical funds that allow the Alzheimer's Association to provide 24/7 care and support and advance research toward methods of prevention\, treatment and\, ultimately\, a cure.\n\n\n\nSkyview Park\n\nRegistration: 8:00 am\n\nCeremony: 8:45 am\n\nWalk: 9:00 am\n\nPlease register at: https://act.alz.org/site/TR/Walk2023/NE-Nebraska?pg=entry&fr_id=16714
X-ALT-DESC;FMTTYPE=text/html:<p>Held annually in more than 600 communities nationwide\, the Alzheimer&#39\;s Association Walk to End Alzheimer&#39\;s&reg\;&nbsp\;is the world&#39\;s largest fundraiser for Alzheimer&#39\;s care\, support and research. This inspiring event calls on participants of all ages and abilities to join the fight against the disease.</p>\n\n<p>While there is no fee to register for Walk\, all participants are encouraged to raise critical funds that allow the Alzheimer&rsquo\;s Association to provide 24/7 care and support and advance research toward methods of prevention\, treatment and\, ultimately\, a cure.<br />\n<br />\n<strong>Skyview Park</strong></p>\n\n<p>Registration: 8:00 am</p>\n\n<p>Ceremony: 8:45 am</p>\n\n<p>Walk: 9:00 am</p>\n\n<p>Please register at:&nbsp\;<a href="https://act.alz.org/site/TR/Walk2023/NE-Nebraska?pg=entry&amp\;fr_id=16714">https://act.alz.org/site/TR/Walk2023/NE-Nebraska?pg=entry&amp\;fr_id=16714</a></p>\n\n<p>&nbsp\;</p>\n
LOCATION:Skyview Park
UID:e.296.34911
SEQUENCE:3
DTSTAMP:20260422T205803Z
URL:https://members.norfolkareachamber.com/events/details/northeast-nebraska-walk-to-end-alzheimer-s-34911
END:VEVENT

END:VCALENDAR
