BEGIN:VCALENDAR
VERSION:2.0
PRODID:-//ChamberMaster//Event Calendar 2.0//EN
METHOD:PUBLISH
X-PUBLISHED-TTL:P3D
REFRESH-INTERVAL:P3D
CALSCALE:GREGORIAN
BEGIN:VEVENT
DTSTART:20211030T003000Z
DTEND:20211030T033000Z
X-MICROSOFT-CDO-ALLDAYEVENT:FALSE
SUMMARY:Open Mic
DESCRIPTION:Open Mic nights every final friday of the month.\n\nAmps provided. Musicians\, Acts\, Comedians welcome! Please contact us via email  to\n\nsignup: aromacircuit@gmail.com
X-ALT-DESC;FMTTYPE=text/html:Open Mic nights every final friday of the month.<br />\nAmps provided. Musicians\, Acts\, Comedians welcome! Please contact us via email&nbsp\; to<br />\nsignup: aromacircuit@gmail.com
LOCATION:KARMA LOUNGE at Aroma Circuit\, Inside Norfolk Country Inn\, Norfolk NE.
UID:e.296.32794
SEQUENCE:3
DTSTAMP:20260425T164633Z
URL:https://members.norfolkareachamber.com/events/details/open-mic-10-29-2021-32794
END:VEVENT

END:VCALENDAR
