BEGIN:VCALENDAR
VERSION:2.0
PRODID:-//ChamberMaster//Event Calendar 2.0//EN
METHOD:PUBLISH
X-PUBLISHED-TTL:P3D
REFRESH-INTERVAL:P3D
CALSCALE:GREGORIAN
BEGIN:VEVENT
DTSTART:20230608T160000Z
DTEND:20230608T170000Z
X-MICROSOFT-CDO-ALLDAYEVENT:FALSE
SUMMARY:Ribbon Cutting at Warren Cook Park
DESCRIPTION:A ribbon cutting celebration is being held Thursday\, June 8th at 11:00 a.m. for the new library storywalk at Warren Cook Park in Norfolk. \n\n						 \n\n						The storywalk is an outdoor reading experience where visitors can travel along the walking trail and stop at its stations to read a page of a children's book\, finishing the entire story by the time they complete the trail. It's a wonderful way to promote literacy and enjoy the outdoors with your children.\n\n						 \n\n						The panels will be swapped out every so often so families can visit the park and read a new story. The project was made possible due to remaining funds from the half-cent sales tax increase for the library expansion that ended in March 2018.
X-ALT-DESC;FMTTYPE=text/html:&nbsp\;\n<table align="center" border="0" cellpadding="0" cellspacing="0" style="width:100.0%\;" width="100%">\n	<tbody>\n		<tr>\n			<td style="width:100.0%\;padding:0in 0in 0in 0in\;vertical-align:top\;">\n			<table align="center" border="0" cellpadding="0" cellspacing="0" style="width:100.0%\;" width="100%">\n				<tbody>\n					<tr>\n						<td style="padding:7.5pt 15.0pt 7.5pt 15.0pt\;vertical-align:top\;"><span style="color:#606D78\;"><span style="font-family:candara\,sans-serif\;"><span style="font-size:12.0pt\;"><span style="font-size:18px\;"><em><strong>A ribbon cutting celebration is being held Thursday\, June 8<sup>th</sup> at 11:00 a.m. for the new library storywalk at Warren Cook Park in Norfolk.</strong></em></span> </span></span></span><br />\n						&nbsp\;<br />\n						<span style="color:black\;"><span style="font-family:candara\,sans-serif\;"><span style="font-size:12.0pt\;">The storywalk is an outdoor reading experience where visitors can travel along the walking trail and stop at its stations to read a page of a children&#39\;s book\, finishing the entire story by the time they complete the trail. It&#39\;s a wonderful way to promote literacy and enjoy the outdoors with your children.</span></span></span><br />\n						&nbsp\;<br />\n						<span style="color:black\;"><span style="font-family:candara\,sans-serif\;"><span style="font-size:12.0pt\;">The panels will be swapped out every so often so families can visit the park and read a new story. The project was made possible due to remaining funds from the half-cent sales tax increase for the library expansion that ended in March 2018.</span></span></span></td>\n					</tr>\n				</tbody>\n			</table>\n\n			<div style="clear:both\;">&nbsp\;</div>\n			</td>\n		</tr>\n	</tbody>\n</table>\n\n<div style="clear:both\;">&nbsp\;</div>\n
LOCATION:Warren Park Norfolk Public Library Norfolk\, Ne
UID:e.296.34158
SEQUENCE:3
DTSTAMP:20260424T114031Z
URL:https://members.norfolkareachamber.com/events/details/ribbon-cutting-at-warren-cook-park-34158
END:VEVENT

END:VCALENDAR
