BEGIN:VCALENDAR
VERSION:2.0
PRODID:-//ChamberMaster//Event Calendar 2.0//EN
METHOD:PUBLISH
X-PUBLISHED-TTL:P3D
REFRESH-INTERVAL:P3D
CALSCALE:GREGORIAN
BEGIN:VEVENT
DTSTART:20200918T233000Z
DTEND:20200919T013000Z
X-MICROSOFT-CDO-ALLDAYEVENT:FALSE
SUMMARY:Roadside Views with Revitalized
DESCRIPTION:Capture breathtaking Roadside Veiws drawn by you. Don't worry if "you can't draw" Ranae makes this easy for you. This is an adult level canvas painting.\n\nNothing like a scenic roadside view!  Capsulize a summer day with this event! $30 per person Please RSVP by Sept. 17th so we have supplies available! *Adult Level* (you may bring your own beverages)
X-ALT-DESC;FMTTYPE=text/html:Capture breathtaking Roadside Veiws drawn by you. Don&#39\;t worry if &quot\;you can&#39\;t draw&quot\; Ranae makes this easy for you. This is an adult level canvas painting.<br />\n<span style="color: rgb(24\, 24\, 24)\; font-family: brandon-grot-w01-light\, sans-serif\; font-size: 15px\; text-align: center\; white-space: pre-wrap\;">Nothing like a scenic roadside view!&#128521\; Capsulize a summer day with this event! $30 per person <strong>Please RSVP by Sept. 17th</strong> so we have supplies available! *Adult Level* (you may bring your own beverages)</span>
LOCATION:Revitalized Studio 311 W Norfolk Ave Norfolk\, Ne 68701
UID:e.296.32175
SEQUENCE:3
DTSTAMP:20260421T172700Z
URL:https://members.norfolkareachamber.com/events/details/roadside-views-with-revitalized-32175
END:VEVENT

END:VCALENDAR
