BEGIN:VCALENDAR
VERSION:2.0
PRODID:-//ChamberMaster//Event Calendar 2.0//EN
METHOD:PUBLISH
X-PUBLISHED-TTL:P3D
REFRESH-INTERVAL:P3D
CALSCALE:GREGORIAN
BEGIN:VEVENT
DTSTART:20221020T170000Z
DTEND:20221020T180000Z
X-MICROSOFT-CDO-ALLDAYEVENT:FALSE
SUMMARY:Science\, Ag and Energy Innovation - Presentation w/ Q&A
DESCRIPTION:Do you have a big idea?  Josh Nichol-Caddy\, Technology and Commercialization Program Director with the Nebraska Business Development Center (NBDC)\, invites you to attend an upcoming presentation and discussion opportunity in Norfolk\, NE!  The USDA\, National Science Foundation\, National Institutes of Health and others may want to hear from you!  Join in on agency-focused presentations\, followed by an open Question & Answer session. Attendees will learn more about this competitive awards-based program that enables small businesses to explore technological potential and profit from its commercialization. \n\n\n\nThis event is ideal for technology-based entrepreneurs\, start-up companies\, and small businesses familiar with the SBIR/STTR (which stands for Small Business Innovation Research and Small Business Technology Transfer) programs who would like to learn more!  \n\n\n\nUndecided?  Learn more about the SBIR/STTR program assistance on our website: https://www.unomaha.edu/nebraska-business-development-center/technology-commercialization/index.php
X-ALT-DESC;FMTTYPE=text/html:<strong>Do you have a big idea?</strong>&nbsp\; Josh Nichol-Caddy\, Technology and Commercialization Program Director with the Nebraska Business Development Center (NBDC)\, invites you to attend an upcoming presentation and discussion opportunity in Norfolk\, NE!&nbsp\; The USDA\, National Science Foundation\, National Institutes of Health and others may want to <em>hear from you</em>!&nbsp\; Join in on agency-focused presentations\, followed by an open Question &amp\; Answer session. Attendees will learn more about this <strong><em>competitive awards-based program</em></strong> that enables small businesses to explore technological potential and profit from its commercialization.&nbsp\;<br />\n<br />\nThis event is ideal for technology-based entrepreneurs\, start-up companies\, and small businesses familiar with the SBIR/STTR (which stands for Small Business Innovation Research and Small Business Technology Transfer) programs who would like to learn more!&nbsp\;&nbsp\;<br />\n<br />\n<strong>Undecided?&nbsp\;</strong> Learn more about the SBIR/STTR program assistance on our website:&nbsp\;https://www.unomaha.edu/nebraska-business-development-center/technology-commercialization/index.php&nbsp\;
LOCATION:Norfolk Area Chamber of Commerce Community Room 609 W Norfolk Ave Norfolk\, NE 68701
UID:e.296.34103
SEQUENCE:3
DTSTAMP:20260421T235102Z
URL:https://members.norfolkareachamber.com/events/details/science-ag-and-energy-innovation-presentation-w-q-a-34103
END:VEVENT

END:VCALENDAR
