BEGIN:VCALENDAR
VERSION:2.0
PRODID:-//ChamberMaster//Event Calendar 2.0//EN
METHOD:PUBLISH
X-PUBLISHED-TTL:P3D
REFRESH-INTERVAL:P3D
CALSCALE:GREGORIAN
BEGIN:VEVENT
DTSTART:20220727T210000Z
DTEND:20220727T230000Z
X-MICROSOFT-CDO-ALLDAYEVENT:FALSE
SUMMARY:Senior Planning Series - Community Services to Help You Stay Independent
DESCRIPTION:Learn about the multitude of services available through the Northeast Nebraska Area Agency on Aging for seniors and talk with experts about Medicare.
X-ALT-DESC;FMTTYPE=text/html:Learn about the multitude of services available through the Northeast Nebraska Area Agency on Aging for seniors and talk with experts about Medicare.&nbsp\;
LOCATION:3725 W Madison Ave Norfolk\, NE 68701
UID:e.296.33676
SEQUENCE:3
DTSTAMP:20260425T184655Z
URL:https://members.norfolkareachamber.com/events/details/senior-planning-series-community-services-to-help-you-stay-independent-33676
END:VEVENT

END:VCALENDAR
