BEGIN:VCALENDAR
VERSION:2.0
PRODID:-//ChamberMaster//Event Calendar 2.0//EN
METHOD:PUBLISH
X-PUBLISHED-TTL:P3D
REFRESH-INTERVAL:P3D
CALSCALE:GREGORIAN
BEGIN:VEVENT
DTSTART:20220713T210000Z
DTEND:20220713T230000Z
X-MICROSOFT-CDO-ALLDAYEVENT:FALSE
SUMMARY:Senior Planning Series - Financing Your Future
DESCRIPTION:Mark Zimmerer\, a local financial advisor\, will share strategies to maximize your savings and answer questions to help you maintain and enjoy your lifestyle and independence in your retirement.
X-ALT-DESC;FMTTYPE=text/html:Mark Zimmerer\, a local financial advisor\, will share strategies to maximize your savings and answer questions to help you maintain and enjoy your lifestyle and independence in your retirement.&nbsp\;
LOCATION:3725 W Madison Ave Norfolk\, NE 68701
UID:e.296.33675
SEQUENCE:3
DTSTAMP:20260425T184702Z
URL:https://members.norfolkareachamber.com/events/details/senior-planning-series-financing-your-future-33675
END:VEVENT

END:VCALENDAR
