BEGIN:VCALENDAR
VERSION:2.0
PRODID:-//ChamberMaster//Event Calendar 2.0//EN
METHOD:PUBLISH
X-PUBLISHED-TTL:P3D
REFRESH-INTERVAL:P3D
CALSCALE:GREGORIAN
BEGIN:VEVENT
DTSTART:20190704T144000Z
DTEND:20190704T160000Z
X-MICROSOFT-CDO-ALLDAYEVENT:FALSE
SUMMARY:Walk with Oktoberfest in the July 4th Parade
DESCRIPTION:
X-ALT-DESC;FMTTYPE=text/html:
LOCATION:
UID:e.296.30629
SEQUENCE:3
DTSTAMP:20260422T134834Z
URL:https://members.norfolkareachamber.com/events/details/walk-with-oktoberfest-in-the-july-4th-parade-07-04-2019-30629
END:VEVENT

END:VCALENDAR
