BEGIN:VCALENDAR
VERSION:2.0
PRODID:-//ChamberMaster//Event Calendar 2.0//EN
METHOD:PUBLISH
X-PUBLISHED-TTL:P3D
REFRESH-INTERVAL:P3D
CALSCALE:GREGORIAN
BEGIN:VEVENT
DTSTART:20250122T180000Z
DTEND:20250122T190000Z
X-MICROSOFT-CDO-ALLDAYEVENT:FALSE
SUMMARY:WEB Board Meeting
DESCRIPTION:Monthly Women Embracing Business Board meeting\n\n(closed meeting)
X-ALT-DESC;FMTTYPE=text/html:Monthly Women Embracing Business Board meeting<br />\n<span style="font-size:9px\;">(closed meeting)</span>
LOCATION:Norfolk Area Chamber of Commerce 609 W. Norfolk Ave Norfolk\, NE 68701
UID:e.296.32569
SEQUENCE:3
DTSTAMP:20260421T224052Z
URL:https://members.norfolkareachamber.com/events/details/web-board-meeting-01-22-2025-32569
END:VEVENT

END:VCALENDAR
