BEGIN:VCALENDAR
VERSION:2.0
PRODID:-//ChamberMaster//Event Calendar 2.0//EN
METHOD:PUBLISH
X-PUBLISHED-TTL:P3D
REFRESH-INTERVAL:P3D
CALSCALE:GREGORIAN
BEGIN:VEVENT
DTSTART:20210512T170000Z
DTEND:20210512T180000Z
X-MICROSOFT-CDO-ALLDAYEVENT:FALSE
SUMMARY:WEB General Meeting
DESCRIPTION:May 12 WEB General Meeting\n\n\n\nSpeaker:  Connie Wilson from Essential Personnel\n\nOpen Forum Discussion about Hiring\n\n\n\nCommunity Involvement: Big Give\n\n\n\nLunch Provided by District Table & Tap
X-ALT-DESC;FMTTYPE=text/html:May 12 WEB General Meeting<br />\n<br />\nSpeaker:&nbsp\; Connie Wilson from Essential Personnel<br />\nOpen Forum Discussion about Hiring<br />\n<br />\nCommunity Involvement: Big Give<br />\n<br />\nLunch Provided by District Table &amp\; Tap<br />\n<br />\n&nbsp\;
LOCATION:Norfolk Area Chamber of Commerce 609 W. Norfolk Avenue
UID:e.296.25046
SEQUENCE:3
DTSTAMP:20260426T002727Z
URL:https://members.norfolkareachamber.com/events/details/web-general-meeting-05-12-2021-25046
END:VEVENT

END:VCALENDAR
